BEGIN:VCALENDAR
VERSION:2.0
PRODID:-//Sala Fantāstic - ECPv6.15.13//NONSGML v1.0//EN
CALSCALE:GREGORIAN
METHOD:PUBLISH
X-ORIGINAL-URL:https://salafantastic.es
X-WR-CALDESC:Eventos para Sala Fantāstic
REFRESH-INTERVAL;VALUE=DURATION:PT1H
X-Robots-Tag:noindex
X-PUBLISHED-TTL:PT1H
BEGIN:VTIMEZONE
TZID:UTC
BEGIN:STANDARD
TZOFFSETFROM:+0000
TZOFFSETTO:+0000
TZNAME:UTC
DTSTART:20240101T000000
END:STANDARD
END:VTIMEZONE
BEGIN:VEVENT
DTSTART;TZID=UTC:20251115T170000
DTEND;TZID=UTC:20251115T213000
DTSTAMP:20260419T131412
CREATED:20250807T092649Z
LAST-MODIFIED:20250810T063347Z
UID:3286-1763226000-1763242200@salafantastic.es
SUMMARY:Mikelele y su Bandarra- Petardeo
DESCRIPTION:Este sábado disfrutamos de un tardeo GOLFO  con la banda LA GOLFERIA. Calentamos motores en nuestra terraza desde las 17:00h y además\, casi 5 horas de baile y buena música ya que abriremos las puertas a las 18:00h con nuestros FAN DJs que irán calentando los motores. Disfruta a partir de las 19:00h. de la actuación de LA GOLFERIA que nos interpretarán temas desde el Punk al Jazz\, pasando por el Pop y Rock. La Golfería ofrece un espectáculo dinámico y divertido. La banda está compuesta por 8 increíbles músicos: Óscar\, batería\, Toni\, trombón\, Sergi\, trompeta\, Yolanda\, teclados\, Julio\, guitarra\, Paco\, percusión\, David\, bajo y Voro\, voz\, que lidera de manera natural y divertida a este gran grupo humano. Y cuando nos hayamos quedado afónicos de tanto cantar\, aun nos quedarán casi dos horas más de bailoteo gracias de nuevo a nuestros FAN DJs. CANTA\, BAILA\, RIE….\, VIVE FANTASTIC!!!
URL:https://salafantastic.es/evento/mikelele-y-su-bandarra/
LOCATION:Sala fantastic\, Calle Jaume Ferran\, 18\,\, L'Eliana\, Valencia\, 46183\, Spain
CATEGORIES:Banda,Fiesta,Pop/Rock,REGGAE,Tardeo
ATTACH;FMTTYPE=image/jpeg:https://salafantastic.es/wp-content/uploads/2025/08/MIKELELE-1.jpg
ORGANIZER;CN="Sala Fant%C4%81stic":MAILTO:info@salafantastic.es
END:VEVENT
END:VCALENDAR