BEGIN:VCALENDAR
VERSION:2.0
PRODID:-//Sala Fantāstic - ECPv6.15.20//NONSGML v1.0//EN
CALSCALE:GREGORIAN
METHOD:PUBLISH
X-WR-CALNAME:Sala Fantāstic
X-ORIGINAL-URL:https://salafantastic.es
X-WR-CALDESC:Eventos para Sala Fantāstic
REFRESH-INTERVAL;VALUE=DURATION:PT1H
X-Robots-Tag:noindex
X-PUBLISHED-TTL:PT1H
BEGIN:VTIMEZONE
TZID:UTC
BEGIN:STANDARD
TZOFFSETFROM:+0000
TZOFFSETTO:+0000
TZNAME:UTC
DTSTART:20250101T000000
END:STANDARD
END:VTIMEZONE
BEGIN:VEVENT
DTSTART;TZID=UTC:20260425T230000
DTEND;TZID=UTC:20260426T013000
DTSTAMP:20260426T013850
CREATED:20251226T163052Z
LAST-MODIFIED:20260415T103104Z
UID:4292-1777158000-1777167000@salafantastic.es
SUMMARY:MÁS MANÁ - TRIBUTO a MANÁ
DESCRIPTION:ENTRADA LIBRE Este sábado 2 de mayo tenemos un tardeo especial de la mano de uno de nuestros DJ residentes\, GECKO. Música super bailable para disfrutar de la época de los 80\,90 y principio de los 2000.  
URL:https://salafantastic.es/evento/roca-viva-tributo-mana/
LOCATION:Sala fantastic\, Calle Jaume Ferran\, 18\,\, L'Eliana\, Valencia\, 46183\, Spain
CATEGORIES:Banda,Directo,Familia,Night,Pop/Rock
ATTACH;FMTTYPE=image/jpeg:https://salafantastic.es/wp-content/uploads/2025/12/ASUNTOS-PROPIOS-4-1.jpg
ORGANIZER;CN="Sala Fant%C4%81stic":MAILTO:info@salafantastic.es
END:VEVENT
BEGIN:VEVENT
DTSTART;TZID=UTC:20260426T113000
DTEND;TZID=UTC:20260426T163000
DTSTAMP:20260426T013850
CREATED:20260402T212117Z
LAST-MODIFIED:20260415T115358Z
UID:4882-1777203000-1777221000@salafantastic.es
SUMMARY:MATINAL DOMINGO -  The Turia Blackbirds
DESCRIPTION:ENTRADA LIBRE Este sábado 2 de mayo tenemos un tardeo especial de la mano de uno de nuestros DJ residentes\, GECKO. Música super bailable para disfrutar de la época de los 80\,90 y principio de los 2000.  
URL:https://salafantastic.es/evento/matinal-domingo-the-turia-blackbirds/
LOCATION:Sala fantastic\, Calle Jaume Ferran\, 18\,\, L'Eliana\, Valencia\, 46183\, Spain
CATEGORIES:Banda,Directo,Familia,Mañaneo,Pop/Rock,Soul
ATTACH;FMTTYPE=image/jpeg:https://salafantastic.es/wp-content/uploads/2026/04/BLACKBIRDS-1-1.jpg
ORGANIZER;CN="Sala Fant%C4%81stic":MAILTO:info@salafantastic.es
END:VEVENT
BEGIN:VEVENT
DTSTART;TZID=UTC:20260426T173000
DTEND;TZID=UTC:20260426T220000
DTSTAMP:20260426T013850
CREATED:20260120T092512Z
LAST-MODIFIED:20260422T103421Z
UID:4451-1777224600-1777240800@salafantastic.es
SUMMARY:Tardeo Bachata&Merengue - TALLER María Romero&Emilio Arrue-Dj Pakito
DESCRIPTION:ENTRADA LIBRE Este sábado 2 de mayo tenemos un tardeo especial de la mano de uno de nuestros DJ residentes\, GECKO. Música super bailable para disfrutar de la época de los 80\,90 y principio de los 2000.  
URL:https://salafantastic.es/evento/tardeo-bachatasalsa-taller-maria-romeroemilio-arrue-dj-paklito/
LOCATION:Sala fantastic\, Calle Jaume Ferran\, 18\,\, L'Eliana\, Valencia\, 46183\, Spain
CATEGORIES:Bachata&Salsa,Bailes Latinos,DJ,Fiesta,Tardeo
ATTACH;FMTTYPE=image/png:https://salafantastic.es/wp-content/uploads/2026/01/paquito.png
ORGANIZER;CN="Sala Fant%C4%81stic":MAILTO:info@salafantastic.es
END:VEVENT
END:VCALENDAR